Package: IMMAN Version: 1.29.0 Command: /Library/Frameworks/R.framework/Resources/bin/R CMD build --keep-empty-dirs --no-resave-data IMMAN StartedAt: 2025-10-23 17:21:53 -0400 (Thu, 23 Oct 2025) EndedAt: 2025-10-23 17:25:11 -0400 (Thu, 23 Oct 2025) EllapsedTime: 198.0 seconds RetCode: 0 Status: OK PackageFile: IMMAN_1.29.0.tar.gz PackageFileSize: 45.04 KiB