Package: ILoReg Version: 1.19.0 Command: /home/biocbuild/R/R/bin/R CMD build --keep-empty-dirs --no-resave-data ILoReg StartedAt: 2025-10-21 00:34:24 -0000 (Tue, 21 Oct 2025) EndedAt: 2025-10-21 00:37:16 -0000 (Tue, 21 Oct 2025) EllapsedTime: 171.1 seconds RetCode: 1 Status: ERROR PackageFile: None PackageFileSize: NA