Package: ILoReg Version: 1.19.0 Command: chmod a+r ILoReg -R && F:\biocbuild\bbs-3.22-bioc\R\bin\R.exe CMD build --keep-empty-dirs --no-resave-data ILoReg StartedAt: 2025-08-14 20:54:04 -0400 (Thu, 14 Aug 2025) EndedAt: 2025-08-14 20:57:34 -0400 (Thu, 14 Aug 2025) EllapsedTime: 210.4 seconds RetCode: 0 Status: OK PackageFile: ILoReg_1.19.0.tar.gz PackageFileSize: 1.742 MiB