Package: ILoReg Version: 1.19.0 Command: /Library/Frameworks/R.framework/Resources/bin/R CMD build --keep-empty-dirs --no-resave-data ILoReg StartedAt: 2025-10-22 17:21:49 -0400 (Wed, 22 Oct 2025) EndedAt: 2025-10-22 17:25:12 -0400 (Wed, 22 Oct 2025) EllapsedTime: 202.7 seconds RetCode: 0 Status: OK PackageFile: ILoReg_1.19.0.tar.gz PackageFileSize: 2.745 MiB