Package: ILoReg Version: 1.19.0 Command: /Library/Frameworks/R.framework/Resources/bin/R CMD check --install=check:ILoReg.install-out.txt --library=/Library/Frameworks/R.framework/Resources/library --no-vignettes --timings ILoReg_1.19.0.tar.gz StartedAt: 2025-10-21 20:16:53 -0400 (Tue, 21 Oct 2025) EndedAt: 2025-10-21 20:18:57 -0400 (Tue, 21 Oct 2025) EllapsedTime: 123.5 seconds RetCode: 0 Status: WARNINGS CheckDir: ILoReg.Rcheck Warnings: 2