Package: ILoReg Version: 1.19.0 Command: /Library/Frameworks/R.framework/Resources/bin/R CMD build --keep-empty-dirs --no-resave-data ILoReg StartedAt: 2025-10-21 16:46:09 -0400 (Tue, 21 Oct 2025) EndedAt: 2025-10-21 16:47:07 -0400 (Tue, 21 Oct 2025) EllapsedTime: 57.6 seconds RetCode: 0 Status: OK PackageFile: ILoReg_1.19.0.tar.gz PackageFileSize: 2.753 MiB