Package: IFAA Version: 1.12.0 Command: /home/biocbuild/R/R/bin/R CMD build --keep-empty-dirs --no-resave-data IFAA StartedAt: 2025-11-14 02:36:10 -0000 (Fri, 14 Nov 2025) EndedAt: 2025-11-14 02:38:51 -0000 (Fri, 14 Nov 2025) EllapsedTime: 160.1 seconds RetCode: 0 Status: OK PackageFile: IFAA_1.12.0.tar.gz PackageFileSize: 319.5 KiB