Package: IFAA Version: 1.12.0 Command: /Library/Frameworks/R.framework/Resources/bin/R CMD build --keep-empty-dirs --no-resave-data IFAA StartedAt: 2025-11-03 17:24:57 -0500 (Mon, 03 Nov 2025) EndedAt: 2025-11-03 17:28:01 -0500 (Mon, 03 Nov 2025) EllapsedTime: 184.5 seconds RetCode: 0 Status: OK PackageFile: IFAA_1.12.0.tar.gz PackageFileSize: 296.8 KiB