Package: IFAA Version: 1.12.0 Command: rm -rf IFAA.buildbin-libdir && mkdir IFAA.buildbin-libdir && /Users/biocbuild/BBS/utils/build-universal.sh IFAA_1.12.0.tar.gz /Library/Frameworks/R.framework/Resources/bin/R IFAA.buildbin-libdir StartedAt: 2025-11-04 01:45:25 -0500 (Tue, 04 Nov 2025) EndedAt: 2025-11-04 01:46:06 -0500 (Tue, 04 Nov 2025) EllapsedTime: 40.7 seconds RetCode: 0 Status: OK PackageFile: IFAA_1.12.0.tgz PackageFileSize: 382.8 KiB