Package: IFAA Version: 1.12.0 Command: /Library/Frameworks/R.framework/Resources/bin/R CMD build --keep-empty-dirs --no-resave-data IFAA StartedAt: 2025-11-10 16:44:36 -0500 (Mon, 10 Nov 2025) EndedAt: 2025-11-10 16:45:21 -0500 (Mon, 10 Nov 2025) EllapsedTime: 45.5 seconds RetCode: 0 Status: OK PackageFile: IFAA_1.12.0.tar.gz PackageFileSize: 335.1 KiB