Package: IFAA Version: 1.12.0 Command: rm -rf IFAA.buildbin-libdir && mkdir IFAA.buildbin-libdir && /Users/biocbuild/BBS/utils/build-universal.sh IFAA_1.12.0.tar.gz /Library/Frameworks/R.framework/Resources/bin/R IFAA.buildbin-libdir StartedAt: 2025-11-10 23:23:35 -0500 (Mon, 10 Nov 2025) EndedAt: 2025-11-10 23:23:47 -0500 (Mon, 10 Nov 2025) EllapsedTime: 11.2 seconds RetCode: 0 Status: OK PackageFile: IFAA_1.12.0.tgz PackageFileSize: 420.8 KiB