Package: HybridMTest Version: 1.53.0 Command: rm -rf HybridMTest.buildbin-libdir && mkdir HybridMTest.buildbin-libdir && /Users/biocbuild/BBS/utils/build-universal.sh HybridMTest_1.53.0.tar.gz /Library/Frameworks/R.framework/Resources/bin/R HybridMTest.buildbin-libdir StartedAt: 2025-10-21 03:16:51 -0400 (Tue, 21 Oct 2025) EndedAt: 2025-10-21 03:17:05 -0400 (Tue, 21 Oct 2025) EllapsedTime: 14.1 seconds RetCode: 0 Status: OK PackageFile: HybridMTest_1.53.0.tgz PackageFileSize: 235.3 KiB