Package: HybridMTest Version: 1.53.0 Command: /Library/Frameworks/R.framework/Resources/bin/R CMD INSTALL HybridMTest StartedAt: 2025-10-21 15:08:17 -0400 (Tue, 21 Oct 2025) EndedAt: 2025-10-21 15:08:21 -0400 (Tue, 21 Oct 2025) EllapsedTime: 4.0 seconds RetCode: 0 Status: OK