Package: HybridExpress Version: 1.5.0 Command: /home/biocbuild/R/R/bin/R CMD INSTALL HybridExpress StartedAt: 2025-10-23 20:41:34 -0000 (Thu, 23 Oct 2025) EndedAt: 2025-10-23 20:42:07 -0000 (Thu, 23 Oct 2025) EllapsedTime: 32.8 seconds RetCode: 0 Status: OK