Package: HybridExpress Version: 1.5.0 Command: F:\biocbuild\bbs-3.22-bioc\R\bin\R.exe CMD check --no-multiarch --install=check:HybridExpress.install-out.txt --library=F:\biocbuild\bbs-3.22-bioc\R\library --no-vignettes --timings HybridExpress_1.5.0.tar.gz StartedAt: 2025-08-15 04:13:56 -0400 (Fri, 15 Aug 2025) EndedAt: 2025-08-15 04:18:54 -0400 (Fri, 15 Aug 2025) EllapsedTime: 297.6 seconds RetCode: 0 Status: OK CheckDir: HybridExpress.Rcheck Warnings: 0