Package: HybridExpress Version: 1.5.0 Command: /Library/Frameworks/R.framework/Resources/bin/R CMD INSTALL HybridExpress StartedAt: 2025-10-26 15:11:36 -0400 (Sun, 26 Oct 2025) EndedAt: 2025-10-26 15:11:46 -0400 (Sun, 26 Oct 2025) EllapsedTime: 10.2 seconds RetCode: 0 Status: OK