Package: HubPub Version: 1.17.1 Command: rm -rf HubPub.buildbin-libdir && mkdir HubPub.buildbin-libdir && F:\biocbuild\bbs-3.22-bioc\R\bin\R.exe CMD INSTALL --build --library=HubPub.buildbin-libdir HubPub_1.17.1.tar.gz StartedAt: 2025-08-15 10:29:07 -0400 (Fri, 15 Aug 2025) EndedAt: 2025-08-15 10:29:20 -0400 (Fri, 15 Aug 2025) EllapsedTime: 13.0 seconds RetCode: 0 Status: OK PackageFile: HubPub_1.17.1.zip PackageFileSize: 564.1 KiB