Package: HubPub Version: 1.17.1 Command: /home/biocbuild/bbs-3.22-bioc/R/bin/R CMD INSTALL HubPub StartedAt: 2025-10-19 15:12:44 -0400 (Sun, 19 Oct 2025) EndedAt: 2025-10-19 15:12:47 -0400 (Sun, 19 Oct 2025) EllapsedTime: 3.1 seconds RetCode: 0 Status: OK