Package: HubPub Version: 1.17.1 Command: /Library/Frameworks/R.framework/Resources/bin/R CMD INSTALL HubPub StartedAt: 2025-10-19 15:15:29 -0400 (Sun, 19 Oct 2025) EndedAt: 2025-10-19 15:15:43 -0400 (Sun, 19 Oct 2025) EllapsedTime: 14.1 seconds RetCode: 0 Status: OK