Package: HuBMAPR Version: 1.3.2 Command: /home/biocbuild/R/R/bin/R CMD check --install=check:HuBMAPR.install-out.txt --library=/home/biocbuild/R/R/site-library --no-vignettes --timings HuBMAPR_1.3.2.tar.gz StartedAt: 2025-10-17 10:08:59 -0000 (Fri, 17 Oct 2025) EndedAt: 2025-10-17 10:12:39 -0000 (Fri, 17 Oct 2025) EllapsedTime: 219.2 seconds RetCode: 0 Status: OK CheckDir: HuBMAPR.Rcheck Warnings: 0