Package: HuBMAPR Version: 1.3.2 Command: /home/biocbuild/R/R/bin/R CMD build --keep-empty-dirs --no-resave-data HuBMAPR StartedAt: 2025-10-17 01:57:15 -0000 (Fri, 17 Oct 2025) EndedAt: 2025-10-17 01:58:20 -0000 (Fri, 17 Oct 2025) EllapsedTime: 65.0 seconds RetCode: 0 Status: OK PackageFile: HuBMAPR_1.3.2.tar.gz PackageFileSize: 1.322 MiB