Package: HuBMAPR Version: 1.3.2 Command: /home/biocbuild/bbs-3.22-bioc/R/bin/R CMD INSTALL HuBMAPR StartedAt: 2025-10-19 15:09:47 -0400 (Sun, 19 Oct 2025) EndedAt: 2025-10-19 15:09:52 -0400 (Sun, 19 Oct 2025) EllapsedTime: 5.7 seconds RetCode: 0 Status: OK