Package: HuBMAPR Version: 1.3.2 Command: /home/biocbuild/bbs-3.22-bioc/R/bin/R CMD build --keep-empty-dirs --no-resave-data --md5 HuBMAPR StartedAt: 2025-10-19 18:09:39 -0400 (Sun, 19 Oct 2025) EndedAt: 2025-10-19 18:10:03 -0400 (Sun, 19 Oct 2025) EllapsedTime: 24.0 seconds RetCode: 0 Status: OK PackageFile: HuBMAPR_1.3.2.tar.gz PackageFileSize: 1.378 MiB