Package: HuBMAPR Version: 1.3.2 Command: /Library/Frameworks/R.framework/Resources/bin/R CMD INSTALL HuBMAPR StartedAt: 2025-10-19 15:12:21 -0400 (Sun, 19 Oct 2025) EndedAt: 2025-10-19 15:12:45 -0400 (Sun, 19 Oct 2025) EllapsedTime: 24.5 seconds RetCode: 0 Status: OK