Package: HuBMAPR Version: 1.3.2 Command: /Library/Frameworks/R.framework/Resources/bin/R CMD build --keep-empty-dirs --no-resave-data HuBMAPR StartedAt: 2025-10-17 17:37:59 -0400 (Fri, 17 Oct 2025) EndedAt: 2025-10-17 17:38:40 -0400 (Fri, 17 Oct 2025) EllapsedTime: 41.3 seconds RetCode: 0 Status: OK PackageFile: HuBMAPR_1.3.2.tar.gz PackageFileSize: 1.372 MiB