Package: HuBMAPR Version: 1.3.2 Command: /Library/Frameworks/R.framework/Resources/bin/R CMD INSTALL HuBMAPR StartedAt: 2025-10-17 15:04:58 -0400 (Fri, 17 Oct 2025) EndedAt: 2025-10-17 15:04:59 -0400 (Fri, 17 Oct 2025) EllapsedTime: 1.4 seconds RetCode: 0 Status: OK