Package: HuBMAPR Version: 1.3.2 Maintainer: Christine Hou MaintainerEmail: chris2018hou at gmail.com git_url: https://git.bioconductor.org/packages/HuBMAPR git_branch: devel git_last_commit: f89adc0 git_last_commit_date: 2025-10-13 17:18:45 -0400 (Mon, 13 Oct 2025)