Package: HoloFoodR Version: 1.4.0 Command: /Library/Frameworks/R.framework/Resources/bin/R CMD INSTALL HoloFoodR StartedAt: 2025-11-20 16:29:25 -0500 (Thu, 20 Nov 2025) EndedAt: 2025-11-20 16:30:29 -0500 (Thu, 20 Nov 2025) EllapsedTime: 64.0 seconds RetCode: 0 Status: OK