Package: HoloFoodR Version: 1.4.0 Command: /Library/Frameworks/R.framework/Resources/bin/R CMD check --install=check:HoloFoodR.install-out.txt --library=/Library/Frameworks/R.framework/Resources/library --no-vignettes --timings HoloFoodR_1.4.0.tar.gz StartedAt: 2025-11-21 06:29:46 -0500 (Fri, 21 Nov 2025) EndedAt: 2025-11-21 06:29:52 -0500 (Fri, 21 Nov 2025) EllapsedTime: 6.1 seconds RetCode: 1 Status: ERROR CheckDir: HoloFoodR.Rcheck Warnings: NA