Package: HoloFoodR Version: 1.4.0 Command: rm -rf HoloFoodR.buildbin-libdir && mkdir HoloFoodR.buildbin-libdir && /Users/biocbuild/BBS/utils/build-universal.sh HoloFoodR_1.4.0.tar.gz /Library/Frameworks/R.framework/Resources/bin/R HoloFoodR.buildbin-libdir StartedAt: 2025-11-21 14:53:53 -0500 (Fri, 21 Nov 2025) EndedAt: 2025-11-21 14:55:02 -0500 (Fri, 21 Nov 2025) EllapsedTime: 69.7 seconds RetCode: 0 Status: OK PackageFile: HoloFoodR_1.4.0.tgz PackageFileSize: 3.174 MiB