Package: HilbertVisGUI Version: 1.68.0 Command: /home/biocbuild/R/R/bin/R CMD INSTALL HilbertVisGUI StartedAt: 2025-11-13 21:04:23 -0000 (Thu, 13 Nov 2025) EndedAt: 2025-11-13 21:05:06 -0000 (Thu, 13 Nov 2025) EllapsedTime: 42.9 seconds RetCode: 0 Status: OK