Package: HilbertVisGUI Version: 1.68.0 Maintainer: Simon Anders MaintainerEmail: sanders at fs.tum.de git_url: https://git.bioconductor.org/packages/HilbertVisGUI git_branch: RELEASE_3_22 git_last_commit: 242ca58 git_last_commit_date: 2025-10-29 10:01:58 -0500 (Wed, 29 Oct 2025)