Package: HilbertVis Version: 1.67.2 Command: /home/biocbuild/R/R/bin/R CMD check --install=check:HilbertVis.install-out.txt --library=/home/biocbuild/R/R/site-library --no-vignettes --timings HilbertVis_1.67.2.tar.gz StartedAt: 2025-10-17 10:06:29 -0000 (Fri, 17 Oct 2025) EndedAt: 2025-10-17 10:06:50 -0000 (Fri, 17 Oct 2025) EllapsedTime: 21.0 seconds RetCode: 0 Status: OK CheckDir: HilbertVis.Rcheck Warnings: 0