Package: HilbertVis Version: 1.67.2 Command: /home/biocbuild/bbs-3.22-bioc/R/bin/R CMD INSTALL HilbertVis StartedAt: 2025-10-19 15:03:59 -0400 (Sun, 19 Oct 2025) EndedAt: 2025-10-19 15:04:18 -0400 (Sun, 19 Oct 2025) EllapsedTime: 18.7 seconds RetCode: 0 Status: OK