Package: HilbertVis Version: 1.67.2 Command: /home/biocbuild/bbs-3.22-bioc/R/bin/R CMD check --install=check:HilbertVis.install-out.txt --library=/home/biocbuild/bbs-3.22-bioc/R/site-library --timings HilbertVis_1.67.2.tar.gz StartedAt: 2025-10-20 00:51:26 -0400 (Mon, 20 Oct 2025) EndedAt: 2025-10-20 00:51:48 -0400 (Mon, 20 Oct 2025) EllapsedTime: 22.0 seconds RetCode: 0 Status: OK CheckDir: HilbertVis.Rcheck Warnings: 0