Package: HilbertVis Version: 1.67.2 Command: /home/biocbuild/bbs-3.22-bioc/R/bin/R CMD build --keep-empty-dirs --no-resave-data --md5 HilbertVis StartedAt: 2025-10-19 18:07:54 -0400 (Sun, 19 Oct 2025) EndedAt: 2025-10-19 18:08:02 -0400 (Sun, 19 Oct 2025) EllapsedTime: 8.0 seconds RetCode: 0 Status: OK PackageFile: HilbertVis_1.67.2.tar.gz PackageFileSize: 1.207 MiB