Package: HilbertVis Version: 1.67.2 Command: /Library/Frameworks/R.framework/Resources/bin/R CMD INSTALL HilbertVis StartedAt: 2025-10-21 15:07:16 -0400 (Tue, 21 Oct 2025) EndedAt: 2025-10-21 15:08:04 -0400 (Tue, 21 Oct 2025) EllapsedTime: 48.0 seconds RetCode: 0 Status: OK