Package: HilbertCurve Version: 2.3.0 Command: /home/biocbuild/R/R/bin/R CMD INSTALL HilbertCurve StartedAt: 2025-10-02 20:37:43 -0000 (Thu, 02 Oct 2025) EndedAt: 2025-10-02 20:38:15 -0000 (Thu, 02 Oct 2025) EllapsedTime: 32.3 seconds RetCode: 0 Status: OK