Package: HilbertCurve Version: 2.3.0 Command: /home/biocbuild/R/R/bin/R CMD build --keep-empty-dirs --no-resave-data HilbertCurve StartedAt: 2025-10-03 00:38:09 -0000 (Fri, 03 Oct 2025) EndedAt: 2025-10-03 00:38:45 -0000 (Fri, 03 Oct 2025) EllapsedTime: 36.0 seconds RetCode: 0 Status: OK PackageFile: HilbertCurve_2.3.0.tar.gz PackageFileSize: 408 KiB