Package: HicAggR Version: 1.6.0 Command: /Library/Frameworks/R.framework/Resources/bin/R CMD check --install=check:HicAggR.install-out.txt --library=/Library/Frameworks/R.framework/Resources/library --no-vignettes --timings HicAggR_1.6.0.tar.gz StartedAt: 2025-11-18 07:36:04 -0500 (Tue, 18 Nov 2025) EndedAt: 2025-11-18 07:40:07 -0500 (Tue, 18 Nov 2025) EllapsedTime: 243.1 seconds RetCode: 0 Status: WARNINGS CheckDir: HicAggR.Rcheck Warnings: 1