Package: HiTC Version: 1.53.1 Command: /home/biocbuild/R/R/bin/R CMD build --keep-empty-dirs --no-resave-data HiTC StartedAt: 2025-10-17 01:56:14 -0000 (Fri, 17 Oct 2025) EndedAt: 2025-10-17 01:58:23 -0000 (Fri, 17 Oct 2025) EllapsedTime: 129.1 seconds RetCode: 1 Status: ERROR PackageFile: None PackageFileSize: NA