Package: HiTC Version: 1.53.1 Command: F:\biocbuild\bbs-3.22-bioc\R\bin\R.exe CMD INSTALL HiTC StartedAt: 2025-08-14 16:20:21 -0400 (Thu, 14 Aug 2025) EndedAt: 2025-08-14 16:21:28 -0400 (Thu, 14 Aug 2025) EllapsedTime: 67.1 seconds RetCode: 0 Status: OK