Package: HiTC Version: 1.53.1 Command: chmod a+r HiTC -R && F:\biocbuild\bbs-3.22-bioc\R\bin\R.exe CMD build --keep-empty-dirs --no-resave-data HiTC StartedAt: 2025-08-14 20:49:18 -0400 (Thu, 14 Aug 2025) EndedAt: 2025-08-14 20:53:19 -0400 (Thu, 14 Aug 2025) EllapsedTime: 241.3 seconds RetCode: 0 Status: OK PackageFile: HiTC_1.53.1.tar.gz PackageFileSize: 2.999 MiB