Package: HiTC Version: 1.53.1 Command: rm -rf HiTC.buildbin-libdir && mkdir HiTC.buildbin-libdir && F:\biocbuild\bbs-3.22-bioc\R\bin\R.exe CMD INSTALL --build --library=HiTC.buildbin-libdir HiTC_1.53.1.tar.gz StartedAt: 2025-08-15 10:28:42 -0400 (Fri, 15 Aug 2025) EndedAt: 2025-08-15 10:29:54 -0400 (Fri, 15 Aug 2025) EllapsedTime: 71.9 seconds RetCode: 0 Status: OK PackageFile: HiTC_1.53.1.zip PackageFileSize: 3.559 MiB