Package: HiTC Version: 1.53.1 Command: /Library/Frameworks/R.framework/Resources/bin/R CMD INSTALL HiTC StartedAt: 2025-10-02 15:16:27 -0400 (Thu, 02 Oct 2025) EndedAt: 2025-10-02 15:16:42 -0400 (Thu, 02 Oct 2025) EllapsedTime: 15.0 seconds RetCode: 0 Status: OK