Package: HiTC Version: 1.53.1 Command: /Library/Frameworks/R.framework/Resources/bin/R CMD check --install=check:HiTC.install-out.txt --library=/Library/Frameworks/R.framework/Resources/library --no-vignettes --timings HiTC_1.53.1.tar.gz StartedAt: 2025-10-02 20:20:27 -0400 (Thu, 02 Oct 2025) EndedAt: 2025-10-02 20:22:11 -0400 (Thu, 02 Oct 2025) EllapsedTime: 103.4 seconds RetCode: 0 Status: WARNINGS CheckDir: HiTC.Rcheck Warnings: 1