Package: HiTC Version: 1.53.1 Command: /Library/Frameworks/R.framework/Resources/bin/R CMD build --keep-empty-dirs --no-resave-data HiTC StartedAt: 2025-10-02 16:42:21 -0400 (Thu, 02 Oct 2025) EndedAt: 2025-10-02 16:43:13 -0400 (Thu, 02 Oct 2025) EllapsedTime: 51.6 seconds RetCode: 0 Status: OK PackageFile: HiTC_1.53.1.tar.gz PackageFileSize: 3.125 MiB