Package: HiContacts Version: 1.12.0 Command: /home/biocbuild/R/R/bin/R CMD check --install=check:HiContacts.install-out.txt --library=/home/biocbuild/R/R/site-library --no-vignettes --timings HiContacts_1.12.0.tar.gz StartedAt: 2025-11-11 10:40:47 -0000 (Tue, 11 Nov 2025) EndedAt: 2025-11-11 10:53:51 -0000 (Tue, 11 Nov 2025) EllapsedTime: 784.1 seconds RetCode: 0 Status: OK CheckDir: HiContacts.Rcheck Warnings: 0