Package: HiCcompare Version: 1.31.0 Command: /home/biocbuild/bbs-3.22-bioc/R/bin/R CMD check --install=check:HiCcompare.install-out.txt --library=/home/biocbuild/bbs-3.22-bioc/R/site-library --timings HiCcompare_1.31.0.tar.gz StartedAt: 2025-10-22 00:47:04 -0400 (Wed, 22 Oct 2025) EndedAt: 2025-10-22 00:50:54 -0400 (Wed, 22 Oct 2025) EllapsedTime: 230.2 seconds RetCode: 0 Status: OK CheckDir: HiCcompare.Rcheck Warnings: 0