Package: HiCcompare Version: 1.31.0 Command: /Library/Frameworks/R.framework/Resources/bin/R CMD check --install=check:HiCcompare.install-out.txt --library=/Library/Frameworks/R.framework/Resources/library --no-vignettes --timings HiCcompare_1.31.0.tar.gz StartedAt: 2025-10-22 20:11:11 -0400 (Wed, 22 Oct 2025) EndedAt: 2025-10-22 20:12:37 -0400 (Wed, 22 Oct 2025) EllapsedTime: 86.0 seconds RetCode: 0 Status: OK CheckDir: HiCcompare.Rcheck Warnings: 0